BEGIN:VCALENDAR
VERSION:2.0
PRODID:-//IBM Ring 60 - ECPv6.15.20//NONSGML v1.0//EN
CALSCALE:GREGORIAN
METHOD:PUBLISH
X-WR-CALNAME:IBM Ring 60
X-ORIGINAL-URL:https://ibmring60.org
X-WR-CALDESC:Events for IBM Ring 60
REFRESH-INTERVAL;VALUE=DURATION:PT1H
X-Robots-Tag:noindex
X-PUBLISHED-TTL:PT1H
BEGIN:VTIMEZONE
TZID:America/Chicago
BEGIN:DAYLIGHT
TZOFFSETFROM:-0600
TZOFFSETTO:-0500
TZNAME:CDT
DTSTART:20230312T080000
END:DAYLIGHT
BEGIN:STANDARD
TZOFFSETFROM:-0500
TZOFFSETTO:-0600
TZNAME:CST
DTSTART:20231105T070000
END:STANDARD
BEGIN:DAYLIGHT
TZOFFSETFROM:-0600
TZOFFSETTO:-0500
TZNAME:CDT
DTSTART:20240310T080000
END:DAYLIGHT
BEGIN:STANDARD
TZOFFSETFROM:-0500
TZOFFSETTO:-0600
TZNAME:CST
DTSTART:20241103T070000
END:STANDARD
BEGIN:DAYLIGHT
TZOFFSETFROM:-0600
TZOFFSETTO:-0500
TZNAME:CDT
DTSTART:20250309T080000
END:DAYLIGHT
BEGIN:STANDARD
TZOFFSETFROM:-0500
TZOFFSETTO:-0600
TZNAME:CST
DTSTART:20251102T070000
END:STANDARD
BEGIN:DAYLIGHT
TZOFFSETFROM:-0600
TZOFFSETTO:-0500
TZNAME:CDT
DTSTART:20260308T080000
END:DAYLIGHT
BEGIN:STANDARD
TZOFFSETFROM:-0500
TZOFFSETTO:-0600
TZNAME:CST
DTSTART:20261101T070000
END:STANDARD
END:VTIMEZONE
BEGIN:VEVENT
DTSTART;TZID=America/Chicago:20250701T190000
DTEND;TZID=America/Chicago:20250701T210000
DTSTAMP:20260425T133218
CREATED:20250626T203151Z
LAST-MODIFIED:20250626T203250Z
UID:1496-1751396400-1751403600@ibmring60.org
SUMMARY:July 2025 Club Meeting
DESCRIPTION:May Magic Clinic — Parlor Magic Deep Dive!Step into the sweet spot between close-up and stage magic at our May Magic Clinic\, proudly promoted by IBM Ring 60 in partnership with the Fantastic Magic Center. This month’s focus is Parlor Magic—the kind of strong\, audience-friendly material that plays big in living rooms\, small theaters\, and club settings. Hosting this month’s clinic is the one and only Fantastic Kent Cummins\, bringing his experience\, creativity\, and practical insights to a fun\, hands-on session. Whether you’re building a parlor set\, tightening your scripting\, improving audience management\, or figuring out how to make effects “play bigger\,” this clinic is the perfect place to workshop ideas and get feedback. ✅ Open to all — no cost to attend🎭 Topic: Parlor Magic📅 Saturday\, May 2nd🕙 Starts at 10:00 AM Come ready to share\, learn\, and level up—and leave with new ideas you can put into performance right away! 								\n				\n				\n		\n				\n				\n									When: May 2nd\, 2026 (Saturday)Time: 10:00 a.m.Where: Fantastic Magic Center1116 Brendon Lee LaneGeorgetown\, TX 78626Cost: FREE
URL:https://ibmring60.org/event/july-2025-club-meeting/
LOCATION:Heroes Night Out\, 1150 S Bell Blvd\, Cedar Park\, TX\, 78613\, United States
CATEGORIES:Club Meeting
END:VEVENT
BEGIN:VEVENT
DTSTART;TZID=America/Chicago:20250603T190000
DTEND;TZID=America/Chicago:20250603T210000
DTSTAMP:20260425T133218
CREATED:20250421T025104Z
LAST-MODIFIED:20250421T034656Z
UID:1494-1748977200-1748984400@ibmring60.org
SUMMARY:June 2025 Club Meeting
DESCRIPTION:May Magic Clinic — Parlor Magic Deep Dive!Step into the sweet spot between close-up and stage magic at our May Magic Clinic\, proudly promoted by IBM Ring 60 in partnership with the Fantastic Magic Center. This month’s focus is Parlor Magic—the kind of strong\, audience-friendly material that plays big in living rooms\, small theaters\, and club settings. Hosting this month’s clinic is the one and only Fantastic Kent Cummins\, bringing his experience\, creativity\, and practical insights to a fun\, hands-on session. Whether you’re building a parlor set\, tightening your scripting\, improving audience management\, or figuring out how to make effects “play bigger\,” this clinic is the perfect place to workshop ideas and get feedback. ✅ Open to all — no cost to attend🎭 Topic: Parlor Magic📅 Saturday\, May 2nd🕙 Starts at 10:00 AM Come ready to share\, learn\, and level up—and leave with new ideas you can put into performance right away! 								\n				\n				\n		\n				\n				\n									When: May 2nd\, 2026 (Saturday)Time: 10:00 a.m.Where: Fantastic Magic Center1116 Brendon Lee LaneGeorgetown\, TX 78626Cost: FREE
URL:https://ibmring60.org/event/june-2025-club-meeting/
LOCATION:Heroes Night Out\, 1150 S Bell Blvd\, Cedar Park\, TX\, 78613\, United States
CATEGORIES:Club Meeting
END:VEVENT
BEGIN:VEVENT
DTSTART;TZID=America/Chicago:20250514T190000
DTEND;TZID=America/Chicago:20250514T210000
DTSTAMP:20260425T133218
CREATED:20250421T023108Z
LAST-MODIFIED:20250421T023915Z
UID:1744-1747249200-1747256400@ibmring60.org
SUMMARY:John Shryock - The Practical Magic Lecture
DESCRIPTION:May Magic Clinic — Parlor Magic Deep Dive!Step into the sweet spot between close-up and stage magic at our May Magic Clinic\, proudly promoted by IBM Ring 60 in partnership with the Fantastic Magic Center. This month’s focus is Parlor Magic—the kind of strong\, audience-friendly material that plays big in living rooms\, small theaters\, and club settings. Hosting this month’s clinic is the one and only Fantastic Kent Cummins\, bringing his experience\, creativity\, and practical insights to a fun\, hands-on session. Whether you’re building a parlor set\, tightening your scripting\, improving audience management\, or figuring out how to make effects “play bigger\,” this clinic is the perfect place to workshop ideas and get feedback. ✅ Open to all — no cost to attend🎭 Topic: Parlor Magic📅 Saturday\, May 2nd🕙 Starts at 10:00 AM Come ready to share\, learn\, and level up—and leave with new ideas you can put into performance right away! 								\n				\n				\n		\n				\n				\n									When: May 2nd\, 2026 (Saturday)Time: 10:00 a.m.Where: Fantastic Magic Center1116 Brendon Lee LaneGeorgetown\, TX 78626Cost: FREE
URL:https://ibmring60.org/event/john-shryock-the-practical-magic-lecture/
LOCATION:Heroes Night Out\, 1150 S Bell Blvd\, Cedar Park\, TX\, 78613\, United States
CATEGORIES:Lectures
END:VEVENT
BEGIN:VEVENT
DTSTART;TZID=America/Chicago:20250506T190000
DTEND;TZID=America/Chicago:20250506T210000
DTSTAMP:20260425T133218
CREATED:20250325T042507Z
LAST-MODIFIED:20250421T051647Z
UID:1492-1746558000-1746565200@ibmring60.org
SUMMARY:May 2025 Club Meeting
DESCRIPTION:May Magic Clinic — Parlor Magic Deep Dive!Step into the sweet spot between close-up and stage magic at our May Magic Clinic\, proudly promoted by IBM Ring 60 in partnership with the Fantastic Magic Center. This month’s focus is Parlor Magic—the kind of strong\, audience-friendly material that plays big in living rooms\, small theaters\, and club settings. Hosting this month’s clinic is the one and only Fantastic Kent Cummins\, bringing his experience\, creativity\, and practical insights to a fun\, hands-on session. Whether you’re building a parlor set\, tightening your scripting\, improving audience management\, or figuring out how to make effects “play bigger\,” this clinic is the perfect place to workshop ideas and get feedback. ✅ Open to all — no cost to attend🎭 Topic: Parlor Magic📅 Saturday\, May 2nd🕙 Starts at 10:00 AM Come ready to share\, learn\, and level up—and leave with new ideas you can put into performance right away! 								\n				\n				\n		\n				\n				\n									When: May 2nd\, 2026 (Saturday)Time: 10:00 a.m.Where: Fantastic Magic Center1116 Brendon Lee LaneGeorgetown\, TX 78626Cost: FREE
URL:https://ibmring60.org/event/may-2025-club-meeting/
LOCATION:Heroes Night Out\, 1150 S Bell Blvd\, Cedar Park\, TX\, 78613\, United States
CATEGORIES:Club Meeting
END:VEVENT
BEGIN:VEVENT
DTSTART;TZID=America/Chicago:20250409T190000
DTEND;TZID=America/Chicago:20250409T210000
DTSTAMP:20260425T133218
CREATED:20250324T045615Z
LAST-MODIFIED:20250325T024719Z
UID:1691-1744225200-1744232400@ibmring60.org
SUMMARY:Gregory Wilson Lecture - Things I Carry and Use 2.0
DESCRIPTION:May Magic Clinic — Parlor Magic Deep Dive!Step into the sweet spot between close-up and stage magic at our May Magic Clinic\, proudly promoted by IBM Ring 60 in partnership with the Fantastic Magic Center. This month’s focus is Parlor Magic—the kind of strong\, audience-friendly material that plays big in living rooms\, small theaters\, and club settings. Hosting this month’s clinic is the one and only Fantastic Kent Cummins\, bringing his experience\, creativity\, and practical insights to a fun\, hands-on session. Whether you’re building a parlor set\, tightening your scripting\, improving audience management\, or figuring out how to make effects “play bigger\,” this clinic is the perfect place to workshop ideas and get feedback. ✅ Open to all — no cost to attend🎭 Topic: Parlor Magic📅 Saturday\, May 2nd🕙 Starts at 10:00 AM Come ready to share\, learn\, and level up—and leave with new ideas you can put into performance right away! 								\n				\n				\n		\n				\n				\n									When: May 2nd\, 2026 (Saturday)Time: 10:00 a.m.Where: Fantastic Magic Center1116 Brendon Lee LaneGeorgetown\, TX 78626Cost: FREE
URL:https://ibmring60.org/event/gregory-wilson-lecture-things-i-carry-and-use-2-0/
LOCATION:TX
CATEGORIES:Lectures
END:VEVENT
BEGIN:VEVENT
DTSTART;TZID=America/Chicago:20250401T190000
DTEND;TZID=America/Chicago:20250401T210000
DTSTAMP:20260425T133218
CREATED:20250324T042317Z
LAST-MODIFIED:20250325T055706Z
UID:1490-1743534000-1743541200@ibmring60.org
SUMMARY:April 2025 Club Meeting
DESCRIPTION:May Magic Clinic — Parlor Magic Deep Dive!Step into the sweet spot between close-up and stage magic at our May Magic Clinic\, proudly promoted by IBM Ring 60 in partnership with the Fantastic Magic Center. This month’s focus is Parlor Magic—the kind of strong\, audience-friendly material that plays big in living rooms\, small theaters\, and club settings. Hosting this month’s clinic is the one and only Fantastic Kent Cummins\, bringing his experience\, creativity\, and practical insights to a fun\, hands-on session. Whether you’re building a parlor set\, tightening your scripting\, improving audience management\, or figuring out how to make effects “play bigger\,” this clinic is the perfect place to workshop ideas and get feedback. ✅ Open to all — no cost to attend🎭 Topic: Parlor Magic📅 Saturday\, May 2nd🕙 Starts at 10:00 AM Come ready to share\, learn\, and level up—and leave with new ideas you can put into performance right away! 								\n				\n				\n		\n				\n				\n									When: May 2nd\, 2026 (Saturday)Time: 10:00 a.m.Where: Fantastic Magic Center1116 Brendon Lee LaneGeorgetown\, TX 78626Cost: FREE
URL:https://ibmring60.org/event/april-2025-club-meeting/
LOCATION:Heroes Night Out\, 1150 S Bell Blvd\, Cedar Park\, TX\, 78613\, United States
CATEGORIES:Club Meeting
ATTACH;FMTTYPE=image/jpeg:https://ibmring60.org/wp-content/uploads/2025/03/RestaurantMagic01-e1742790159679.jpg
END:VEVENT
BEGIN:VEVENT
DTSTART;TZID=America/Chicago:20250304T190000
DTEND;TZID=America/Chicago:20250304T210000
DTSTAMP:20260425T133218
CREATED:20250121T025817Z
LAST-MODIFIED:20250121T090859Z
UID:1488-1741114800-1741122000@ibmring60.org
SUMMARY:March 2025 Club Meeting
DESCRIPTION:May Magic Clinic — Parlor Magic Deep Dive!Step into the sweet spot between close-up and stage magic at our May Magic Clinic\, proudly promoted by IBM Ring 60 in partnership with the Fantastic Magic Center. This month’s focus is Parlor Magic—the kind of strong\, audience-friendly material that plays big in living rooms\, small theaters\, and club settings. Hosting this month’s clinic is the one and only Fantastic Kent Cummins\, bringing his experience\, creativity\, and practical insights to a fun\, hands-on session. Whether you’re building a parlor set\, tightening your scripting\, improving audience management\, or figuring out how to make effects “play bigger\,” this clinic is the perfect place to workshop ideas and get feedback. ✅ Open to all — no cost to attend🎭 Topic: Parlor Magic📅 Saturday\, May 2nd🕙 Starts at 10:00 AM Come ready to share\, learn\, and level up—and leave with new ideas you can put into performance right away! 								\n				\n				\n		\n				\n				\n									When: May 2nd\, 2026 (Saturday)Time: 10:00 a.m.Where: Fantastic Magic Center1116 Brendon Lee LaneGeorgetown\, TX 78626Cost: FREE
URL:https://ibmring60.org/event/march-2025-club-meeting/
LOCATION:Heroes Night Out\, 1150 S Bell Blvd\, Cedar Park\, TX\, 78613\, United States
CATEGORIES:Club Meeting
END:VEVENT
BEGIN:VEVENT
DTSTART;TZID=America/Chicago:20250204T190000
DTEND;TZID=America/Chicago:20250204T210000
DTSTAMP:20260425T133218
CREATED:20250103T023649Z
LAST-MODIFIED:20250121T025349Z
UID:1245-1738695600-1738702800@ibmring60.org
SUMMARY:February 2025 Club Meeting
DESCRIPTION:May Magic Clinic — Parlor Magic Deep Dive!Step into the sweet spot between close-up and stage magic at our May Magic Clinic\, proudly promoted by IBM Ring 60 in partnership with the Fantastic Magic Center. This month’s focus is Parlor Magic—the kind of strong\, audience-friendly material that plays big in living rooms\, small theaters\, and club settings. Hosting this month’s clinic is the one and only Fantastic Kent Cummins\, bringing his experience\, creativity\, and practical insights to a fun\, hands-on session. Whether you’re building a parlor set\, tightening your scripting\, improving audience management\, or figuring out how to make effects “play bigger\,” this clinic is the perfect place to workshop ideas and get feedback. ✅ Open to all — no cost to attend🎭 Topic: Parlor Magic📅 Saturday\, May 2nd🕙 Starts at 10:00 AM Come ready to share\, learn\, and level up—and leave with new ideas you can put into performance right away! 								\n				\n				\n		\n				\n				\n									When: May 2nd\, 2026 (Saturday)Time: 10:00 a.m.Where: Fantastic Magic Center1116 Brendon Lee LaneGeorgetown\, TX 78626Cost: FREE
URL:https://ibmring60.org/event/january-2025-club-meeting/
LOCATION:Heroes Night Out\, 1150 S Bell Blvd\, Cedar Park\, TX\, 78613\, United States
CATEGORIES:Club Meeting
ATTACH;FMTTYPE=image/png:https://ibmring60.org/wp-content/uploads/2024/12/logo.png
END:VEVENT
BEGIN:VEVENT
DTSTART;TZID=America/Chicago:20241203T190000
DTEND;TZID=America/Chicago:20241203T210000
DTSTAMP:20260425T133218
CREATED:20250102T121843Z
LAST-MODIFIED:20250102T210238Z
UID:1250-1733252400-1733259600@ibmring60.org
SUMMARY:December 2024 Club Meeting
DESCRIPTION:May Magic Clinic — Parlor Magic Deep Dive!Step into the sweet spot between close-up and stage magic at our May Magic Clinic\, proudly promoted by IBM Ring 60 in partnership with the Fantastic Magic Center. This month’s focus is Parlor Magic—the kind of strong\, audience-friendly material that plays big in living rooms\, small theaters\, and club settings. Hosting this month’s clinic is the one and only Fantastic Kent Cummins\, bringing his experience\, creativity\, and practical insights to a fun\, hands-on session. Whether you’re building a parlor set\, tightening your scripting\, improving audience management\, or figuring out how to make effects “play bigger\,” this clinic is the perfect place to workshop ideas and get feedback. ✅ Open to all — no cost to attend🎭 Topic: Parlor Magic📅 Saturday\, May 2nd🕙 Starts at 10:00 AM Come ready to share\, learn\, and level up—and leave with new ideas you can put into performance right away! 								\n				\n				\n		\n				\n				\n									When: May 2nd\, 2026 (Saturday)Time: 10:00 a.m.Where: Fantastic Magic Center1116 Brendon Lee LaneGeorgetown\, TX 78626Cost: FREE
URL:https://ibmring60.org/event/december-2024-club-meeting/
LOCATION:Heroes Night Out\, 1150 S Bell Blvd\, Cedar Park\, TX\, 78613\, United States
CATEGORIES:Club Meeting
ATTACH;FMTTYPE=image/webp:https://ibmring60.org/wp-content/uploads/2024/09/SD-6677.webp
END:VEVENT
BEGIN:VEVENT
DTSTART;TZID=America/Chicago:20241105T190000
DTEND;TZID=America/Chicago:20241105T210000
DTSTAMP:20260425T133218
CREATED:20250102T122137Z
LAST-MODIFIED:20250102T211059Z
UID:1252-1730833200-1730840400@ibmring60.org
SUMMARY:November 2024 Club Meeting
DESCRIPTION:May Magic Clinic — Parlor Magic Deep Dive!Step into the sweet spot between close-up and stage magic at our May Magic Clinic\, proudly promoted by IBM Ring 60 in partnership with the Fantastic Magic Center. This month’s focus is Parlor Magic—the kind of strong\, audience-friendly material that plays big in living rooms\, small theaters\, and club settings. Hosting this month’s clinic is the one and only Fantastic Kent Cummins\, bringing his experience\, creativity\, and practical insights to a fun\, hands-on session. Whether you’re building a parlor set\, tightening your scripting\, improving audience management\, or figuring out how to make effects “play bigger\,” this clinic is the perfect place to workshop ideas and get feedback. ✅ Open to all — no cost to attend🎭 Topic: Parlor Magic📅 Saturday\, May 2nd🕙 Starts at 10:00 AM Come ready to share\, learn\, and level up—and leave with new ideas you can put into performance right away! 								\n				\n				\n		\n				\n				\n									When: May 2nd\, 2026 (Saturday)Time: 10:00 a.m.Where: Fantastic Magic Center1116 Brendon Lee LaneGeorgetown\, TX 78626Cost: FREE
URL:https://ibmring60.org/event/november-2024-club-meeting/
LOCATION:Heroes Night Out\, 1150 S Bell Blvd\, Cedar Park\, TX\, 78613\, United States
CATEGORIES:Club Meeting
ATTACH;FMTTYPE=image/jpeg:https://ibmring60.org/wp-content/uploads/2025/01/man-showing-playing-cards-hobby_220873-65686-scaled-e1735690892991.jpg
END:VEVENT
BEGIN:VEVENT
DTSTART;TZID=America/Chicago:20241016T190000
DTEND;TZID=America/Chicago:20241016T210000
DTSTAMP:20260425T133218
CREATED:20250103T021419Z
LAST-MODIFIED:20250102T205450Z
UID:1263-1729105200-1729112400@ibmring60.org
SUMMARY:Losander - "The Art of Levitation Lecture"
DESCRIPTION:May Magic Clinic — Parlor Magic Deep Dive!Step into the sweet spot between close-up and stage magic at our May Magic Clinic\, proudly promoted by IBM Ring 60 in partnership with the Fantastic Magic Center. This month’s focus is Parlor Magic—the kind of strong\, audience-friendly material that plays big in living rooms\, small theaters\, and club settings. Hosting this month’s clinic is the one and only Fantastic Kent Cummins\, bringing his experience\, creativity\, and practical insights to a fun\, hands-on session. Whether you’re building a parlor set\, tightening your scripting\, improving audience management\, or figuring out how to make effects “play bigger\,” this clinic is the perfect place to workshop ideas and get feedback. ✅ Open to all — no cost to attend🎭 Topic: Parlor Magic📅 Saturday\, May 2nd🕙 Starts at 10:00 AM Come ready to share\, learn\, and level up—and leave with new ideas you can put into performance right away! 								\n				\n				\n		\n				\n				\n									When: May 2nd\, 2026 (Saturday)Time: 10:00 a.m.Where: Fantastic Magic Center1116 Brendon Lee LaneGeorgetown\, TX 78626Cost: FREE
URL:https://ibmring60.org/event/losander-the-art-of-levitation-lecture/
LOCATION:Heroes Night Out\, 1150 S Bell Blvd\, Cedar Park\, TX\, 78613\, United States
CATEGORIES:Lectures
ATTACH;FMTTYPE=image/jpeg:https://ibmring60.org/wp-content/uploads/2024/09/Losander.jpg
END:VEVENT
BEGIN:VEVENT
DTSTART;TZID=America/Chicago:20241001T190000
DTEND;TZID=America/Chicago:20241001T210000
DTSTAMP:20260425T133218
CREATED:20250102T122345Z
LAST-MODIFIED:20250102T211739Z
UID:1254-1727809200-1727816400@ibmring60.org
SUMMARY:October 2024 Club Meeting
DESCRIPTION:May Magic Clinic — Parlor Magic Deep Dive!Step into the sweet spot between close-up and stage magic at our May Magic Clinic\, proudly promoted by IBM Ring 60 in partnership with the Fantastic Magic Center. This month’s focus is Parlor Magic—the kind of strong\, audience-friendly material that plays big in living rooms\, small theaters\, and club settings. Hosting this month’s clinic is the one and only Fantastic Kent Cummins\, bringing his experience\, creativity\, and practical insights to a fun\, hands-on session. Whether you’re building a parlor set\, tightening your scripting\, improving audience management\, or figuring out how to make effects “play bigger\,” this clinic is the perfect place to workshop ideas and get feedback. ✅ Open to all — no cost to attend🎭 Topic: Parlor Magic📅 Saturday\, May 2nd🕙 Starts at 10:00 AM Come ready to share\, learn\, and level up—and leave with new ideas you can put into performance right away! 								\n				\n				\n		\n				\n				\n									When: May 2nd\, 2026 (Saturday)Time: 10:00 a.m.Where: Fantastic Magic Center1116 Brendon Lee LaneGeorgetown\, TX 78626Cost: FREE
URL:https://ibmring60.org/event/october-2024-club-meeting/
LOCATION:Heroes Night Out\, 1150 S Bell Blvd\, Cedar Park\, TX\, 78613\, United States
CATEGORIES:Club Meeting
ATTACH;FMTTYPE=image/jpeg:https://ibmring60.org/wp-content/uploads/2024/12/there-is-glowing-pumpkin-with-face-it-middle-field_1036442-18076-scaled-e1735690683593.jpg
END:VEVENT
END:VCALENDAR