BEGIN:VCALENDAR
VERSION:2.0
PRODID:-//IBM Ring 60 - ECPv6.15.20//NONSGML v1.0//EN
CALSCALE:GREGORIAN
METHOD:PUBLISH
X-ORIGINAL-URL:https://ibmring60.org
X-WR-CALDESC:Events for IBM Ring 60
REFRESH-INTERVAL;VALUE=DURATION:PT1H
X-Robots-Tag:noindex
X-PUBLISHED-TTL:PT1H
BEGIN:VTIMEZONE
TZID:America/Chicago
BEGIN:DAYLIGHT
TZOFFSETFROM:-0600
TZOFFSETTO:-0500
TZNAME:CDT
DTSTART:20240310T080000
END:DAYLIGHT
BEGIN:STANDARD
TZOFFSETFROM:-0500
TZOFFSETTO:-0600
TZNAME:CST
DTSTART:20241103T070000
END:STANDARD
BEGIN:DAYLIGHT
TZOFFSETFROM:-0600
TZOFFSETTO:-0500
TZNAME:CDT
DTSTART:20250309T080000
END:DAYLIGHT
BEGIN:STANDARD
TZOFFSETFROM:-0500
TZOFFSETTO:-0600
TZNAME:CST
DTSTART:20251102T070000
END:STANDARD
BEGIN:DAYLIGHT
TZOFFSETFROM:-0600
TZOFFSETTO:-0500
TZNAME:CDT
DTSTART:20260308T080000
END:DAYLIGHT
BEGIN:STANDARD
TZOFFSETFROM:-0500
TZOFFSETTO:-0600
TZNAME:CST
DTSTART:20261101T070000
END:STANDARD
BEGIN:DAYLIGHT
TZOFFSETFROM:-0600
TZOFFSETTO:-0500
TZNAME:CDT
DTSTART:20270314T080000
END:DAYLIGHT
BEGIN:STANDARD
TZOFFSETFROM:-0500
TZOFFSETTO:-0600
TZNAME:CST
DTSTART:20271107T070000
END:STANDARD
END:VTIMEZONE
BEGIN:VEVENT
DTSTART;TZID=America/Chicago:20250902T190000
DTEND;TZID=America/Chicago:20250902T210000
DTSTAMP:20260425T140426
CREATED:20250818T215854Z
LAST-MODIFIED:20250818T215854Z
UID:1498-1756839600-1756846800@ibmring60.org
SUMMARY:September 2025 Club Meeting
DESCRIPTION:May Magic Clinic — Parlor Magic Deep Dive!Step into the sweet spot between close-up and stage magic at our May Magic Clinic\, proudly promoted by IBM Ring 60 in partnership with the Fantastic Magic Center. This month’s focus is Parlor Magic—the kind of strong\, audience-friendly material that plays big in living rooms\, small theaters\, and club settings. Hosting this month’s clinic is the one and only Fantastic Kent Cummins\, bringing his experience\, creativity\, and practical insights to a fun\, hands-on session. Whether you’re building a parlor set\, tightening your scripting\, improving audience management\, or figuring out how to make effects “play bigger\,” this clinic is the perfect place to workshop ideas and get feedback. ✅ Open to all — no cost to attend🎭 Topic: Parlor Magic📅 Saturday\, May 2nd🕙 Starts at 10:00 AM Come ready to share\, learn\, and level up—and leave with new ideas you can put into performance right away! 								\n				\n				\n		\n				\n				\n									When: May 2nd\, 2026 (Saturday)Time: 10:00 a.m.Where: Fantastic Magic Center1116 Brendon Lee LaneGeorgetown\, TX 78626Cost: FREE
URL:https://ibmring60.org/event/september-2025-club-meeting/
LOCATION:Heroes Night Out\, 1150 S Bell Blvd\, Cedar Park\, TX\, 78613\, United States
CATEGORIES:Club Meeting
END:VEVENT
BEGIN:VEVENT
DTSTART;TZID=America/Chicago:20250927T110000
DTEND;TZID=America/Chicago:20250927T150000
DTSTAMP:20260425T140426
CREATED:20250818T221709Z
LAST-MODIFIED:20250926T061125Z
UID:1766-1758970800-1758985200@ibmring60.org
SUMMARY:IBM Ring 60 Club Picnic
DESCRIPTION:May Magic Clinic — Parlor Magic Deep Dive!Step into the sweet spot between close-up and stage magic at our May Magic Clinic\, proudly promoted by IBM Ring 60 in partnership with the Fantastic Magic Center. This month’s focus is Parlor Magic—the kind of strong\, audience-friendly material that plays big in living rooms\, small theaters\, and club settings. Hosting this month’s clinic is the one and only Fantastic Kent Cummins\, bringing his experience\, creativity\, and practical insights to a fun\, hands-on session. Whether you’re building a parlor set\, tightening your scripting\, improving audience management\, or figuring out how to make effects “play bigger\,” this clinic is the perfect place to workshop ideas and get feedback. ✅ Open to all — no cost to attend🎭 Topic: Parlor Magic📅 Saturday\, May 2nd🕙 Starts at 10:00 AM Come ready to share\, learn\, and level up—and leave with new ideas you can put into performance right away! 								\n				\n				\n		\n				\n				\n									When: May 2nd\, 2026 (Saturday)Time: 10:00 a.m.Where: Fantastic Magic Center1116 Brendon Lee LaneGeorgetown\, TX 78626Cost: FREE
URL:https://ibmring60.org/event/club-picnic/
LOCATION:Southwest Williamson County Regional Park\, 462-544 Borho Dr\,\, Round Rock\, TX\, 78681\, United States
CATEGORIES:Club Events
END:VEVENT
BEGIN:VEVENT
DTSTART;TZID=America/Chicago:20251007T190000
DTEND;TZID=America/Chicago:20251007T210000
DTSTAMP:20260425T140426
CREATED:20250926T044742Z
LAST-MODIFIED:20250926T045926Z
UID:1506-1759863600-1759870800@ibmring60.org
SUMMARY:October 2025 Club Meeting
DESCRIPTION:May Magic Clinic — Parlor Magic Deep Dive!Step into the sweet spot between close-up and stage magic at our May Magic Clinic\, proudly promoted by IBM Ring 60 in partnership with the Fantastic Magic Center. This month’s focus is Parlor Magic—the kind of strong\, audience-friendly material that plays big in living rooms\, small theaters\, and club settings. Hosting this month’s clinic is the one and only Fantastic Kent Cummins\, bringing his experience\, creativity\, and practical insights to a fun\, hands-on session. Whether you’re building a parlor set\, tightening your scripting\, improving audience management\, or figuring out how to make effects “play bigger\,” this clinic is the perfect place to workshop ideas and get feedback. ✅ Open to all — no cost to attend🎭 Topic: Parlor Magic📅 Saturday\, May 2nd🕙 Starts at 10:00 AM Come ready to share\, learn\, and level up—and leave with new ideas you can put into performance right away! 								\n				\n				\n		\n				\n				\n									When: May 2nd\, 2026 (Saturday)Time: 10:00 a.m.Where: Fantastic Magic Center1116 Brendon Lee LaneGeorgetown\, TX 78626Cost: FREE
URL:https://ibmring60.org/event/october-2025-club-meeting/
LOCATION:Heroes Night Out\, 1150 S Bell Blvd\, Cedar Park\, TX\, 78613\, United States
CATEGORIES:Club Meeting
END:VEVENT
BEGIN:VEVENT
DTSTART;TZID=America/Chicago:20251008T190000
DTEND;TZID=America/Chicago:20251008T210000
DTSTAMP:20260425T140426
CREATED:20250926T052323Z
LAST-MODIFIED:20250926T054754Z
UID:1788-1759950000-1759957200@ibmring60.org
SUMMARY:Gustavo Raley Lecture
DESCRIPTION:May Magic Clinic — Parlor Magic Deep Dive!Step into the sweet spot between close-up and stage magic at our May Magic Clinic\, proudly promoted by IBM Ring 60 in partnership with the Fantastic Magic Center. This month’s focus is Parlor Magic—the kind of strong\, audience-friendly material that plays big in living rooms\, small theaters\, and club settings. Hosting this month’s clinic is the one and only Fantastic Kent Cummins\, bringing his experience\, creativity\, and practical insights to a fun\, hands-on session. Whether you’re building a parlor set\, tightening your scripting\, improving audience management\, or figuring out how to make effects “play bigger\,” this clinic is the perfect place to workshop ideas and get feedback. ✅ Open to all — no cost to attend🎭 Topic: Parlor Magic📅 Saturday\, May 2nd🕙 Starts at 10:00 AM Come ready to share\, learn\, and level up—and leave with new ideas you can put into performance right away! 								\n				\n				\n		\n				\n				\n									When: May 2nd\, 2026 (Saturday)Time: 10:00 a.m.Where: Fantastic Magic Center1116 Brendon Lee LaneGeorgetown\, TX 78626Cost: FREE
URL:https://ibmring60.org/event/gustavo-raley-lecture/
LOCATION:Heroes Night Out\, 1150 S Bell Blvd\, Cedar Park\, TX\, 78613\, United States
CATEGORIES:Lectures
END:VEVENT
BEGIN:VEVENT
DTSTART;TZID=America/Chicago:20251104T190000
DTEND;TZID=America/Chicago:20251104T210000
DTSTAMP:20260425T140426
CREATED:20251029T093452Z
LAST-MODIFIED:20251029T093452Z
UID:1508-1762282800-1762290000@ibmring60.org
SUMMARY:November 2025 Club Meeting
DESCRIPTION:May Magic Clinic — Parlor Magic Deep Dive!Step into the sweet spot between close-up and stage magic at our May Magic Clinic\, proudly promoted by IBM Ring 60 in partnership with the Fantastic Magic Center. This month’s focus is Parlor Magic—the kind of strong\, audience-friendly material that plays big in living rooms\, small theaters\, and club settings. Hosting this month’s clinic is the one and only Fantastic Kent Cummins\, bringing his experience\, creativity\, and practical insights to a fun\, hands-on session. Whether you’re building a parlor set\, tightening your scripting\, improving audience management\, or figuring out how to make effects “play bigger\,” this clinic is the perfect place to workshop ideas and get feedback. ✅ Open to all — no cost to attend🎭 Topic: Parlor Magic📅 Saturday\, May 2nd🕙 Starts at 10:00 AM Come ready to share\, learn\, and level up—and leave with new ideas you can put into performance right away! 								\n				\n				\n		\n				\n				\n									When: May 2nd\, 2026 (Saturday)Time: 10:00 a.m.Where: Fantastic Magic Center1116 Brendon Lee LaneGeorgetown\, TX 78626Cost: FREE
URL:https://ibmring60.org/event/november-2025-club-meeting/
LOCATION:Heroes Night Out\, 1150 S Bell Blvd\, Cedar Park\, TX\, 78613\, United States
CATEGORIES:Club Meeting
END:VEVENT
BEGIN:VEVENT
DTSTART;TZID=America/Chicago:20251202T190000
DTEND;TZID=America/Chicago:20251202T210000
DTSTAMP:20260425T140426
CREATED:20251202T065152Z
LAST-MODIFIED:20251202T070156Z
UID:1510-1764702000-1764709200@ibmring60.org
SUMMARY:December 2025 Club Meeting
DESCRIPTION:May Magic Clinic — Parlor Magic Deep Dive!Step into the sweet spot between close-up and stage magic at our May Magic Clinic\, proudly promoted by IBM Ring 60 in partnership with the Fantastic Magic Center. This month’s focus is Parlor Magic—the kind of strong\, audience-friendly material that plays big in living rooms\, small theaters\, and club settings. Hosting this month’s clinic is the one and only Fantastic Kent Cummins\, bringing his experience\, creativity\, and practical insights to a fun\, hands-on session. Whether you’re building a parlor set\, tightening your scripting\, improving audience management\, or figuring out how to make effects “play bigger\,” this clinic is the perfect place to workshop ideas and get feedback. ✅ Open to all — no cost to attend🎭 Topic: Parlor Magic📅 Saturday\, May 2nd🕙 Starts at 10:00 AM Come ready to share\, learn\, and level up—and leave with new ideas you can put into performance right away! 								\n				\n				\n		\n				\n				\n									When: May 2nd\, 2026 (Saturday)Time: 10:00 a.m.Where: Fantastic Magic Center1116 Brendon Lee LaneGeorgetown\, TX 78626Cost: FREE
URL:https://ibmring60.org/event/december-2025-club-meeting/
LOCATION:Heroes Night Out\, 1150 S Bell Blvd\, Cedar Park\, TX\, 78613\, United States
CATEGORIES:Club Meeting
END:VEVENT
BEGIN:VEVENT
DTSTART;TZID=America/Chicago:20260105T190000
DTEND;TZID=America/Chicago:20260105T213000
DTSTAMP:20260425T140426
CREATED:20251205T061605Z
LAST-MODIFIED:20260105T215920Z
UID:1810-1767639600-1767648600@ibmring60.org
SUMMARY:Joshua Jay Lecture
DESCRIPTION:May Magic Clinic — Parlor Magic Deep Dive!Step into the sweet spot between close-up and stage magic at our May Magic Clinic\, proudly promoted by IBM Ring 60 in partnership with the Fantastic Magic Center. This month’s focus is Parlor Magic—the kind of strong\, audience-friendly material that plays big in living rooms\, small theaters\, and club settings. Hosting this month’s clinic is the one and only Fantastic Kent Cummins\, bringing his experience\, creativity\, and practical insights to a fun\, hands-on session. Whether you’re building a parlor set\, tightening your scripting\, improving audience management\, or figuring out how to make effects “play bigger\,” this clinic is the perfect place to workshop ideas and get feedback. ✅ Open to all — no cost to attend🎭 Topic: Parlor Magic📅 Saturday\, May 2nd🕙 Starts at 10:00 AM Come ready to share\, learn\, and level up—and leave with new ideas you can put into performance right away! 								\n				\n				\n		\n				\n				\n									When: May 2nd\, 2026 (Saturday)Time: 10:00 a.m.Where: Fantastic Magic Center1116 Brendon Lee LaneGeorgetown\, TX 78626Cost: FREE
URL:https://ibmring60.org/event/joshua-jay-lecture/
LOCATION:St. Matthew’s Episcopal Church\, 8134 Mesa Dr.\, Austin\, TX\, 78759\, United States
CATEGORIES:Lectures
END:VEVENT
BEGIN:VEVENT
DTSTART;TZID=America/Chicago:20260203T190000
DTEND;TZID=America/Chicago:20260203T210000
DTSTAMP:20260425T140426
CREATED:20260201T024115Z
LAST-MODIFIED:20260201T024115Z
UID:1870-1770145200-1770152400@ibmring60.org
SUMMARY:February 2026 Club Meeting
DESCRIPTION:May Magic Clinic — Parlor Magic Deep Dive!Step into the sweet spot between close-up and stage magic at our May Magic Clinic\, proudly promoted by IBM Ring 60 in partnership with the Fantastic Magic Center. This month’s focus is Parlor Magic—the kind of strong\, audience-friendly material that plays big in living rooms\, small theaters\, and club settings. Hosting this month’s clinic is the one and only Fantastic Kent Cummins\, bringing his experience\, creativity\, and practical insights to a fun\, hands-on session. Whether you’re building a parlor set\, tightening your scripting\, improving audience management\, or figuring out how to make effects “play bigger\,” this clinic is the perfect place to workshop ideas and get feedback. ✅ Open to all — no cost to attend🎭 Topic: Parlor Magic📅 Saturday\, May 2nd🕙 Starts at 10:00 AM Come ready to share\, learn\, and level up—and leave with new ideas you can put into performance right away! 								\n				\n				\n		\n				\n				\n									When: May 2nd\, 2026 (Saturday)Time: 10:00 a.m.Where: Fantastic Magic Center1116 Brendon Lee LaneGeorgetown\, TX 78626Cost: FREE
URL:https://ibmring60.org/event/february-2026-club-meeting/
LOCATION:Heroes Night Out\, 1150 S Bell Blvd\, Cedar Park\, TX\, 78613\, United States
CATEGORIES:Club Meeting
END:VEVENT
BEGIN:VEVENT
DTSTART;TZID=America/Chicago:20260211T190000
DTEND;TZID=America/Chicago:20260211T210000
DTSTAMP:20260425T140426
CREATED:20260203T040014Z
LAST-MODIFIED:20260203T143550Z
UID:1872-1770836400-1770843600@ibmring60.org
SUMMARY:Alain Nu Lecture
DESCRIPTION:May Magic Clinic — Parlor Magic Deep Dive!Step into the sweet spot between close-up and stage magic at our May Magic Clinic\, proudly promoted by IBM Ring 60 in partnership with the Fantastic Magic Center. This month’s focus is Parlor Magic—the kind of strong\, audience-friendly material that plays big in living rooms\, small theaters\, and club settings. Hosting this month’s clinic is the one and only Fantastic Kent Cummins\, bringing his experience\, creativity\, and practical insights to a fun\, hands-on session. Whether you’re building a parlor set\, tightening your scripting\, improving audience management\, or figuring out how to make effects “play bigger\,” this clinic is the perfect place to workshop ideas and get feedback. ✅ Open to all — no cost to attend🎭 Topic: Parlor Magic📅 Saturday\, May 2nd🕙 Starts at 10:00 AM Come ready to share\, learn\, and level up—and leave with new ideas you can put into performance right away! 								\n				\n				\n		\n				\n				\n									When: May 2nd\, 2026 (Saturday)Time: 10:00 a.m.Where: Fantastic Magic Center1116 Brendon Lee LaneGeorgetown\, TX 78626Cost: FREE
URL:https://ibmring60.org/event/alain-nu-lecture/
LOCATION:Heroes Night Out\, 1150 S Bell Blvd\, Cedar Park\, TX\, 78613\, United States
CATEGORIES:Lectures
END:VEVENT
BEGIN:VEVENT
DTSTART;TZID=America/Chicago:20260222T160000
DTEND;TZID=America/Chicago:20260222T210000
DTSTAMP:20260425T140426
CREATED:20250103T024232Z
LAST-MODIFIED:20260201T023258Z
UID:1271-1771776000-1771794000@ibmring60.org
SUMMARY:Installation and Awards Banquet
DESCRIPTION:May Magic Clinic — Parlor Magic Deep Dive!Step into the sweet spot between close-up and stage magic at our May Magic Clinic\, proudly promoted by IBM Ring 60 in partnership with the Fantastic Magic Center. This month’s focus is Parlor Magic—the kind of strong\, audience-friendly material that plays big in living rooms\, small theaters\, and club settings. Hosting this month’s clinic is the one and only Fantastic Kent Cummins\, bringing his experience\, creativity\, and practical insights to a fun\, hands-on session. Whether you’re building a parlor set\, tightening your scripting\, improving audience management\, or figuring out how to make effects “play bigger\,” this clinic is the perfect place to workshop ideas and get feedback. ✅ Open to all — no cost to attend🎭 Topic: Parlor Magic📅 Saturday\, May 2nd🕙 Starts at 10:00 AM Come ready to share\, learn\, and level up—and leave with new ideas you can put into performance right away! 								\n				\n				\n		\n				\n				\n									When: May 2nd\, 2026 (Saturday)Time: 10:00 a.m.Where: Fantastic Magic Center1116 Brendon Lee LaneGeorgetown\, TX 78626Cost: FREE
URL:https://ibmring60.org/event/installation-and-awards-banquet/
LOCATION:Heroes Night Out\, 1150 S Bell Blvd\, Cedar Park\, TX\, 78613\, United States
CATEGORIES:Club Events
ATTACH;FMTTYPE=image/jpeg:https://ibmring60.org/wp-content/uploads/2024/12/InstallationAwards.jpg
END:VEVENT
BEGIN:VEVENT
DTSTART;TZID=America/Chicago:20260303T190000
DTEND;TZID=America/Chicago:20260303T210000
DTSTAMP:20260425T140426
CREATED:20260225T050523Z
LAST-MODIFIED:20260225T052239Z
UID:1900-1772564400-1772571600@ibmring60.org
SUMMARY:March 2026 Club Meeting
DESCRIPTION:May Magic Clinic — Parlor Magic Deep Dive!Step into the sweet spot between close-up and stage magic at our May Magic Clinic\, proudly promoted by IBM Ring 60 in partnership with the Fantastic Magic Center. This month’s focus is Parlor Magic—the kind of strong\, audience-friendly material that plays big in living rooms\, small theaters\, and club settings. Hosting this month’s clinic is the one and only Fantastic Kent Cummins\, bringing his experience\, creativity\, and practical insights to a fun\, hands-on session. Whether you’re building a parlor set\, tightening your scripting\, improving audience management\, or figuring out how to make effects “play bigger\,” this clinic is the perfect place to workshop ideas and get feedback. ✅ Open to all — no cost to attend🎭 Topic: Parlor Magic📅 Saturday\, May 2nd🕙 Starts at 10:00 AM Come ready to share\, learn\, and level up—and leave with new ideas you can put into performance right away! 								\n				\n				\n		\n				\n				\n									When: May 2nd\, 2026 (Saturday)Time: 10:00 a.m.Where: Fantastic Magic Center1116 Brendon Lee LaneGeorgetown\, TX 78626Cost: FREE
URL:https://ibmring60.org/event/march-2026-club-meeting/
LOCATION:Heroes Night Out\, 1150 S Bell Blvd\, Cedar Park\, TX\, 78613\, United States
CATEGORIES:Club Meeting
END:VEVENT
BEGIN:VEVENT
DTSTART;TZID=America/Chicago:20260307T100000
DTEND;TZID=America/Chicago:20260307T120000
DTSTAMP:20260425T140426
CREATED:20260304T061532Z
LAST-MODIFIED:20260304T072555Z
UID:1938-1772877600-1772884800@ibmring60.org
SUMMARY:Magic Clinic - March 2026
DESCRIPTION:May Magic Clinic — Parlor Magic Deep Dive!Step into the sweet spot between close-up and stage magic at our May Magic Clinic\, proudly promoted by IBM Ring 60 in partnership with the Fantastic Magic Center. This month’s focus is Parlor Magic—the kind of strong\, audience-friendly material that plays big in living rooms\, small theaters\, and club settings. Hosting this month’s clinic is the one and only Fantastic Kent Cummins\, bringing his experience\, creativity\, and practical insights to a fun\, hands-on session. Whether you’re building a parlor set\, tightening your scripting\, improving audience management\, or figuring out how to make effects “play bigger\,” this clinic is the perfect place to workshop ideas and get feedback. ✅ Open to all — no cost to attend🎭 Topic: Parlor Magic📅 Saturday\, May 2nd🕙 Starts at 10:00 AM Come ready to share\, learn\, and level up—and leave with new ideas you can put into performance right away! 								\n				\n				\n		\n				\n				\n									When: May 2nd\, 2026 (Saturday)Time: 10:00 a.m.Where: Fantastic Magic Center1116 Brendon Lee LaneGeorgetown\, TX 78626Cost: FREE
URL:https://ibmring60.org/event/magic-clinic-march-2026/
LOCATION:The Fantastic Magic Center\, 1116 Brendon Lee Lane\, Georgetown\, TX\, 78626\, United States
CATEGORIES:Club Clinics
END:VEVENT
BEGIN:VEVENT
DTSTART;TZID=America/Chicago:20260311T190000
DTEND;TZID=America/Chicago:20260311T210000
DTSTAMP:20260425T140426
CREATED:20260225T042124Z
LAST-MODIFIED:20260225T042525Z
UID:1894-1773255600-1773262800@ibmring60.org
SUMMARY:Javi Benitez Lecture
DESCRIPTION:May Magic Clinic — Parlor Magic Deep Dive!Step into the sweet spot between close-up and stage magic at our May Magic Clinic\, proudly promoted by IBM Ring 60 in partnership with the Fantastic Magic Center. This month’s focus is Parlor Magic—the kind of strong\, audience-friendly material that plays big in living rooms\, small theaters\, and club settings. Hosting this month’s clinic is the one and only Fantastic Kent Cummins\, bringing his experience\, creativity\, and practical insights to a fun\, hands-on session. Whether you’re building a parlor set\, tightening your scripting\, improving audience management\, or figuring out how to make effects “play bigger\,” this clinic is the perfect place to workshop ideas and get feedback. ✅ Open to all — no cost to attend🎭 Topic: Parlor Magic📅 Saturday\, May 2nd🕙 Starts at 10:00 AM Come ready to share\, learn\, and level up—and leave with new ideas you can put into performance right away! 								\n				\n				\n		\n				\n				\n									When: May 2nd\, 2026 (Saturday)Time: 10:00 a.m.Where: Fantastic Magic Center1116 Brendon Lee LaneGeorgetown\, TX 78626Cost: FREE
URL:https://ibmring60.org/event/javi-benitez-lecture/
LOCATION:Heroes Night Out\, 1150 S Bell Blvd\, Cedar Park\, TX\, 78613\, United States
CATEGORIES:Lectures
END:VEVENT
BEGIN:VEVENT
DTSTART;TZID=America/Chicago:20260314T090000
DTEND;TZID=America/Chicago:20260314T170000
DTSTAMP:20260425T140426
CREATED:20250102T205103Z
LAST-MODIFIED:20260103T083904Z
UID:1275-1773478800-1773507600@ibmring60.org
SUMMARY:Austin Magic Auction
DESCRIPTION:May Magic Clinic — Parlor Magic Deep Dive!Step into the sweet spot between close-up and stage magic at our May Magic Clinic\, proudly promoted by IBM Ring 60 in partnership with the Fantastic Magic Center. This month’s focus is Parlor Magic—the kind of strong\, audience-friendly material that plays big in living rooms\, small theaters\, and club settings. Hosting this month’s clinic is the one and only Fantastic Kent Cummins\, bringing his experience\, creativity\, and practical insights to a fun\, hands-on session. Whether you’re building a parlor set\, tightening your scripting\, improving audience management\, or figuring out how to make effects “play bigger\,” this clinic is the perfect place to workshop ideas and get feedback. ✅ Open to all — no cost to attend🎭 Topic: Parlor Magic📅 Saturday\, May 2nd🕙 Starts at 10:00 AM Come ready to share\, learn\, and level up—and leave with new ideas you can put into performance right away! 								\n				\n				\n		\n				\n				\n									When: May 2nd\, 2026 (Saturday)Time: 10:00 a.m.Where: Fantastic Magic Center1116 Brendon Lee LaneGeorgetown\, TX 78626Cost: FREE
URL:https://ibmring60.org/event/austin-magic-auction/
LOCATION:St. Matthew’s Episcopal Church\, 8134 Mesa Dr.\, Austin\, TX\, 78759\, United States
CATEGORIES:Local Events
ATTACH;FMTTYPE=image/jpeg:https://ibmring60.org/wp-content/uploads/2024/12/magicAuction.jpg
END:VEVENT
BEGIN:VEVENT
DTSTART;TZID=America/Chicago:20260404T100000
DTEND;TZID=America/Chicago:20260404T120000
DTSTAMP:20260425T140426
CREATED:20260325T021858Z
LAST-MODIFIED:20260330T070951Z
UID:1972-1775296800-1775304000@ibmring60.org
SUMMARY:Magic Clinic - April 2026
DESCRIPTION:May Magic Clinic — Parlor Magic Deep Dive!Step into the sweet spot between close-up and stage magic at our May Magic Clinic\, proudly promoted by IBM Ring 60 in partnership with the Fantastic Magic Center. This month’s focus is Parlor Magic—the kind of strong\, audience-friendly material that plays big in living rooms\, small theaters\, and club settings. Hosting this month’s clinic is the one and only Fantastic Kent Cummins\, bringing his experience\, creativity\, and practical insights to a fun\, hands-on session. Whether you’re building a parlor set\, tightening your scripting\, improving audience management\, or figuring out how to make effects “play bigger\,” this clinic is the perfect place to workshop ideas and get feedback. ✅ Open to all — no cost to attend🎭 Topic: Parlor Magic📅 Saturday\, May 2nd🕙 Starts at 10:00 AM Come ready to share\, learn\, and level up—and leave with new ideas you can put into performance right away! 								\n				\n				\n		\n				\n				\n									When: May 2nd\, 2026 (Saturday)Time: 10:00 a.m.Where: Fantastic Magic Center1116 Brendon Lee LaneGeorgetown\, TX 78626Cost: FREE
URL:https://ibmring60.org/event/magic-clinic-april-2026/
LOCATION:The Fantastic Magic Center\, 1116 Brendon Lee Lane\, Georgetown\, TX\, 78626\, United States
CATEGORIES:Club Clinics
END:VEVENT
BEGIN:VEVENT
DTSTART;TZID=America/Chicago:20260407T190000
DTEND;TZID=America/Chicago:20260407T210000
DTSTAMP:20260425T140426
CREATED:20260325T055626Z
LAST-MODIFIED:20260330T071034Z
UID:1977-1775588400-1775595600@ibmring60.org
SUMMARY:April 2026 Club Meeting
DESCRIPTION:May Magic Clinic — Parlor Magic Deep Dive!Step into the sweet spot between close-up and stage magic at our May Magic Clinic\, proudly promoted by IBM Ring 60 in partnership with the Fantastic Magic Center. This month’s focus is Parlor Magic—the kind of strong\, audience-friendly material that plays big in living rooms\, small theaters\, and club settings. Hosting this month’s clinic is the one and only Fantastic Kent Cummins\, bringing his experience\, creativity\, and practical insights to a fun\, hands-on session. Whether you’re building a parlor set\, tightening your scripting\, improving audience management\, or figuring out how to make effects “play bigger\,” this clinic is the perfect place to workshop ideas and get feedback. ✅ Open to all — no cost to attend🎭 Topic: Parlor Magic📅 Saturday\, May 2nd🕙 Starts at 10:00 AM Come ready to share\, learn\, and level up—and leave with new ideas you can put into performance right away! 								\n				\n				\n		\n				\n				\n									When: May 2nd\, 2026 (Saturday)Time: 10:00 a.m.Where: Fantastic Magic Center1116 Brendon Lee LaneGeorgetown\, TX 78626Cost: FREE
URL:https://ibmring60.org/event/april-2026-club-meeting/
LOCATION:Heroes Night Out\, 1150 S Bell Blvd\, Cedar Park\, TX\, 78613\, United States
CATEGORIES:Club Meeting
END:VEVENT
BEGIN:VEVENT
DTSTART;TZID=America/Chicago:20260429T190000
DTEND;TZID=America/Chicago:20260429T210000
DTSTAMP:20260425T140426
CREATED:20260325T062713Z
LAST-MODIFIED:20260330T071848Z
UID:1986-1777489200-1777496400@ibmring60.org
SUMMARY:Henry Evans Lecture
DESCRIPTION:May Magic Clinic — Parlor Magic Deep Dive!Step into the sweet spot between close-up and stage magic at our May Magic Clinic\, proudly promoted by IBM Ring 60 in partnership with the Fantastic Magic Center. This month’s focus is Parlor Magic—the kind of strong\, audience-friendly material that plays big in living rooms\, small theaters\, and club settings. Hosting this month’s clinic is the one and only Fantastic Kent Cummins\, bringing his experience\, creativity\, and practical insights to a fun\, hands-on session. Whether you’re building a parlor set\, tightening your scripting\, improving audience management\, or figuring out how to make effects “play bigger\,” this clinic is the perfect place to workshop ideas and get feedback. ✅ Open to all — no cost to attend🎭 Topic: Parlor Magic📅 Saturday\, May 2nd🕙 Starts at 10:00 AM Come ready to share\, learn\, and level up—and leave with new ideas you can put into performance right away! 								\n				\n				\n		\n				\n				\n									When: May 2nd\, 2026 (Saturday)Time: 10:00 a.m.Where: Fantastic Magic Center1116 Brendon Lee LaneGeorgetown\, TX 78626Cost: FREE
URL:https://ibmring60.org/event/henry-evans-lecture/
LOCATION:Heroes Night Out\, 1150 S Bell Blvd\, Cedar Park\, TX\, 78613\, United States
CATEGORIES:Lectures
END:VEVENT
BEGIN:VEVENT
DTSTART;TZID=America/Chicago:20260502T100000
DTEND;TZID=America/Chicago:20260502T120000
DTSTAMP:20260425T140426
CREATED:20260425T175047Z
LAST-MODIFIED:20260425T175244Z
UID:2005-1777716000-1777723200@ibmring60.org
SUMMARY:Magic Clinic - May 2026
DESCRIPTION:May Magic Clinic — Parlor Magic Deep Dive!Step into the sweet spot between close-up and stage magic at our May Magic Clinic\, proudly promoted by IBM Ring 60 in partnership with the Fantastic Magic Center. This month’s focus is Parlor Magic—the kind of strong\, audience-friendly material that plays big in living rooms\, small theaters\, and club settings. Hosting this month’s clinic is the one and only Fantastic Kent Cummins\, bringing his experience\, creativity\, and practical insights to a fun\, hands-on session. Whether you’re building a parlor set\, tightening your scripting\, improving audience management\, or figuring out how to make effects “play bigger\,” this clinic is the perfect place to workshop ideas and get feedback. ✅ Open to all — no cost to attend🎭 Topic: Parlor Magic📅 Saturday\, May 2nd🕙 Starts at 10:00 AM Come ready to share\, learn\, and level up—and leave with new ideas you can put into performance right away! 								\n				\n				\n		\n				\n				\n									When: May 2nd\, 2026 (Saturday)Time: 10:00 a.m.Where: Fantastic Magic Center1116 Brendon Lee LaneGeorgetown\, TX 78626Cost: FREE
URL:https://ibmring60.org/event/magic-clinic-may-2026/
LOCATION:The Fantastic Magic Center\, 1116 Brendon Lee Lane\, Georgetown\, TX\, 78626\, United States
CATEGORIES:Club Clinics
END:VEVENT
END:VCALENDAR