BEGIN:VCALENDAR
VERSION:2.0
PRODID:-//IBM Ring 60 - ECPv6.15.18//NONSGML v1.0//EN
CALSCALE:GREGORIAN
METHOD:PUBLISH
X-ORIGINAL-URL:https://ibmring60.org
X-WR-CALDESC:Events for IBM Ring 60
REFRESH-INTERVAL;VALUE=DURATION:PT1H
X-Robots-Tag:noindex
X-PUBLISHED-TTL:PT1H
BEGIN:VTIMEZONE
TZID:America/Chicago
BEGIN:DAYLIGHT
TZOFFSETFROM:-0600
TZOFFSETTO:-0500
TZNAME:CDT
DTSTART:20250309T080000
END:DAYLIGHT
BEGIN:STANDARD
TZOFFSETFROM:-0500
TZOFFSETTO:-0600
TZNAME:CST
DTSTART:20251102T070000
END:STANDARD
BEGIN:DAYLIGHT
TZOFFSETFROM:-0600
TZOFFSETTO:-0500
TZNAME:CDT
DTSTART:20260308T080000
END:DAYLIGHT
BEGIN:STANDARD
TZOFFSETFROM:-0500
TZOFFSETTO:-0600
TZNAME:CST
DTSTART:20261101T070000
END:STANDARD
BEGIN:DAYLIGHT
TZOFFSETFROM:-0600
TZOFFSETTO:-0500
TZNAME:CDT
DTSTART:20270314T080000
END:DAYLIGHT
BEGIN:STANDARD
TZOFFSETFROM:-0500
TZOFFSETTO:-0600
TZNAME:CST
DTSTART:20271107T070000
END:STANDARD
END:VTIMEZONE
BEGIN:VEVENT
DTSTART;TZID=America/Chicago:20260404T100000
DTEND;TZID=America/Chicago:20260404T120000
DTSTAMP:20260419T161526
CREATED:20260325T021858Z
LAST-MODIFIED:20260330T070951Z
UID:1972-1775296800-1775304000@ibmring60.org
SUMMARY:Magic Clinic - April 2026
DESCRIPTION:April Magic Clinic — Coin Magic Deep Dive!\nMake some magic with spare change! Join us for the April Magic Clinic\, proudly promoted by IBM Ring 60 in partnership with the Fantastic Magic Center. This month’s clinic is all about Coin Magic—classic\, practical\, and powerful effects you can carry anywhere. \nRob Tarry will be hosting this Saturday clinic\, guiding a fun\, hands-on session where magicians of all experience levels can work on technique\, explore routines\, swap ideas\, and get real-time feedback. Whether you’re polishing your sleights\, learning your first vanish\, or building a full coin set\, this is the perfect place to grow. \n✅ Open to all — no cost to attend🪙 Topic: Coin MagicBring a few coins and jump in—come share\, learn\, and have fun with fellow magicians! \nWhen: April 4th\, 2026 (Saturday)\nTime: 10:00 a.m.\nWhere: Fantastic Magic Center\n1116 Brendon Lee Lane\nGeorgetown\, TX 78626\nCost: FREE
URL:https://ibmring60.org/event/magic-clinic-april-2026/
LOCATION:The Fantastic Magic Center\, 1116 Brendon Lee Lane\, Georgetown\, TX\, 78626\, United States
CATEGORIES:Club Clinics
END:VEVENT
BEGIN:VEVENT
DTSTART;TZID=America/Chicago:20260407T190000
DTEND;TZID=America/Chicago:20260407T210000
DTSTAMP:20260419T161526
CREATED:20260325T055626Z
LAST-MODIFIED:20260330T071034Z
UID:1977-1775588400-1775595600@ibmring60.org
SUMMARY:April 2026 Club Meeting
DESCRIPTION:IBM Ring 60 – April 2026 Monthly Meeting\nFriends & Family Night – An Evening of Wonder!\nGet ready for one of the most exciting and entertaining nights of the year—IBM Ring 60’s Friends & Family Night! This special meeting is your chance to share the magic with the people who matter most. \nInvite your friends\, bring your family\, and experience an unforgettable evening filled with live magic\, laughter\, and amazement. Our talented Ring 60 magicians will take the stage to showcase a variety of performances—from close-up miracles right before your eyes to stage magic that will leave you speechless. \nThis is more than just a meeting—it’s a celebration of what makes magic so powerful: connection\, wonder\, and shared experiences. \n\n✨ What to Expect\n🎩 Live Magic Performances by your fellow Ring 60 magicians👨‍👩‍👧‍👦 Family-Friendly Entertainment perfect for all ages🍽 Food & Drinks to enjoy throughout the evening😂 Laughter\, Surprises\, and Unforgettable Moments \n\n🎉 Why You Should Attend\nThis is the perfect opportunity to:✨ Introduce others to the world of magic✨ Share what you love with friends and family✨ Experience the joy of live performance together✨ Support your fellow magicians in a fun\, relaxed environment \nWhether you’re bringing a guest or just coming to enjoy the show\, Friends & Family Night is all about celebrating the magic we create—and the people we share it with. \n\n🎟 Bring a guest. Bring your curiosity. Bring your sense of wonder. \nBecause the best magic isn’t just performed…It’s shared. ✨🎩 \nWhen: April 7th\, 2026 (Tuesday)\nTime: 7:00 p.m.\nWhere: Heroes Night Out (Heroes Resource Center)\n1150 South Bell Blvd.\nCedar Park\, TX 78613
URL:https://ibmring60.org/event/april-2026-club-meeting/
LOCATION:Heroes Night Out\, 1150 S Bell Blvd\, Cedar Park\, TX\, 78613\, United States
CATEGORIES:Club Meeting
END:VEVENT
BEGIN:VEVENT
DTSTART;TZID=America/Chicago:20260429T190000
DTEND;TZID=America/Chicago:20260429T210000
DTSTAMP:20260419T161526
CREATED:20260325T062713Z
LAST-MODIFIED:20260330T071848Z
UID:1986-1777489200-1777496400@ibmring60.org
SUMMARY:Henry Evans Lecture
DESCRIPTION:🎩 Henry Evans – Magic Beyond the Effect\nLecture | Presented at IBM Ring 60\nGet ready for an unforgettable night of world-class magic\, creative thinking\, and practical performance material as FISM Champion Henry Evans brings his acclaimed lecture\, Magic Beyond the Effect\, to the Austin area! \n📅 Wednesday\, April 29\, 2026🕖 7:00 PM📍 Heroes Night Out1150 N US 183 Highway Svc Rd.\, Bldg 5\, Cedar Park\, TX 78613 \n💵 $20 IBM/SAM Members | $30 Non-Members \n\n✨ Experience Magic on a Whole New Level\nThis isn’t just about tricks—it’s about thinking differently about magic. \nHenry Evans will guide you through powerful concepts that elevate your performances from good to unforgettable\, using real-world effects as teaching tools. You’ll see how structure\, timing\, and creativity come together to create moments that truly resonate with audiences. \nExpect to learn: \n🎩 Original openers and closers that hit hard and leave lasting impressions🧠 Creative concepts that transform the way you approach magic🃏 Practical card magic with borrowed\, shuffled decks⚡ Effects with little to no setup—perfect for real-world performance✨ Brand-new ideas and routines you can start using immediately \n\n🔥 Bonus Feature – Two FISM Winners!\nAs if that wasn’t enough\, the evening also includes a special appearance byDaniel Mormina\, FISM 2022 Invention Winner. \nYou’ll get an additional mini-lecture and demonstration\, making this an incredible opportunity to learn from two of the most innovative minds in magic today. \n👉 Two FISM winners. One night. One price. \n\n⏳ Event Details\nThe lecture runs approximately 2 hours\, including a short intermission—packed with value from start to finish. \n\n🎟 If you’re serious about improving your magic\, this is a must-attend event. \nCome for the effects…Leave with a deeper understanding of how to make your magic truly unforgettable. 🎩✨ \n  \n 
URL:https://ibmring60.org/event/henry-evans-lecture/
LOCATION:Heroes Night Out\, 1150 S Bell Blvd\, Cedar Park\, TX\, 78613\, United States
CATEGORIES:Lectures
END:VEVENT
END:VCALENDAR